BEGIN:VCALENDAR
VERSION:2.0
PRODID:-//Tukios.com/
BEGIN:VEVENT
UID:e729b424-1572-4efa-b498-0dbf03bdea2d@www.loveinfuneralhome.com
DTSTAMP:20260423T190646Z
DTSTART:20260426T200000Z
DTEND:20260426T210000Z
SUMMARY:Visitation
DESCRIPTION:
URL:https://www.loveinfuneralhome.com/obituaries/derek-pilcher
LOCATION:Lovein Funeral Home 1218 Adel Highway  Nashville GA 31639
GEO:31.1961022;-83.2658133
END:VEVENT
END:VCALENDAR