BEGIN:VCALENDAR
VERSION:2.0
PRODID:-//Tukios.com/
BEGIN:VEVENT
UID:0717d78e-057b-4238-851c-1b46775ee290@www.loveinfuneralhome.com
DTSTAMP:20260423T191034Z
DTSTART:20260426T210000Z
DTEND:20260426T220000Z
SUMMARY:Memorial Service
DESCRIPTION:
URL:https://www.loveinfuneralhome.com/obituaries/derek-pilcher
LOCATION:Chapel of Lovein Funeral Home 1218 Adel Highway  Nashville GA 
	31639
GEO:31.1961022;-83.2658133
END:VEVENT
END:VCALENDAR