BEGIN:VCALENDAR
VERSION:2.0
PRODID:-//Tukios.com/
BEGIN:VEVENT
UID:59141a3e-20e8-44e5-9363-cd43ec296a6e@www.loveinfuneralhome.com
DTSTAMP:20260423T191216Z
DTSTART:20260424T190000Z
DTEND:20260424T200000Z
SUMMARY:Visitation
DESCRIPTION:
URL:https://www.loveinfuneralhome.com/obituaries/evelyn-baldree
LOCATION:Flat Creek Church 904 Flat Creek Church Road  Nashville GA 31639
GEO:31.2718655;-83.2513972
END:VEVENT
END:VCALENDAR