BEGIN:VCALENDAR
VERSION:2.0
PRODID:-//Tukios.com/
BEGIN:VEVENT
UID:f0bcdca9-9937-4439-bcda-8d22032b94de@www.loveinfuneralhome.com
DTSTAMP:20260423T190703Z
DTSTART:20260424T200000Z
DTEND:20260424T210000Z
SUMMARY:Memorial Service
DESCRIPTION:
URL:https://www.loveinfuneralhome.com/obituaries/evelyn-baldree
LOCATION:Flat Creek Church 904 Flat Creek Church Road  Nashville GA 31639
GEO:31.2718655;-83.2513972
END:VEVENT
END:VCALENDAR