BEGIN:VCALENDAR
VERSION:2.0
PRODID:-//Tukios.com/
BEGIN:VEVENT
UID:99710ba4-051d-4845-9d9d-c339b9f7a380@www.loveinfuneralhome.com
DTSTAMP:20260425T020120Z
DTSTART:20260427T170000Z
DTEND:20260427T180000Z
SUMMARY:Visitation
DESCRIPTION:
URL:https://www.loveinfuneralhome.com/obituaries/john-billy-webb
LOCATION:Lovein Funeral Home 1218 Adel Road  Nashville GA 31639
GEO:31.1961022;-83.2658133
END:VEVENT
END:VCALENDAR