BEGIN:VCALENDAR
VERSION:2.0
PRODID:-//Tukios.com/
BEGIN:VEVENT
UID:82a0fb86-863d-42bc-9bf1-67bcb92d407e@www.loveinfuneralhome.com
DTSTAMP:20260425T015958Z
DTSTART:20260427T180000Z
DTEND:20260427T190000Z
SUMMARY:Funeral Service
DESCRIPTION:
URL:https://www.loveinfuneralhome.com/obituaries/john-billy-webb
LOCATION:Lovein Funeral Home 1218 Adel Road  Nashville GA 31639
GEO:31.1961022;-83.2658133
END:VEVENT
END:VCALENDAR