BEGIN:VCALENDAR
VERSION:2.0
PRODID:-//Tukios.com/
BEGIN:VEVENT
UID:ab3cf560-ca08-41bd-a130-1401d5c4d7cc@www.loveinfuneralhome.com
DTSTAMP:20260423T155057Z
DTSTART:20260424T140000Z
DTEND:20260424T150000Z
SUMMARY:Visitation
DESCRIPTION:
URL:https://www.loveinfuneralhome.com/obituaries/wayman-giddens
LOCATION:Pleasant Hill Missionary Baptist Church 1015 West Lenox Road  
	Alapaha GA 31622
GEO:31.34865;-83.2681298
END:VEVENT
END:VCALENDAR