BEGIN:VCALENDAR
VERSION:2.0
PRODID:-//Tukios.com/
BEGIN:VEVENT
UID:709ce2ac-aa33-43c2-86d2-f23134fae52d@www.loveinfuneralhome.com
DTSTAMP:20260423T155117Z
DTSTART:20260424T150000Z
DTEND:20260424T160000Z
SUMMARY:Funeral Service
DESCRIPTION:
URL:https://www.loveinfuneralhome.com/obituaries/wayman-giddens
LOCATION:Pleasant Hill Missionary Baptist Church 1015 West Lenox Road  
	Alapaha GA 31622
GEO:31.34865;-83.2681298
END:VEVENT
END:VCALENDAR